BEGIN:VCALENDAR
VERSION:2.0
PRODID:-//Tea Chamber for Development - ECPv6.15.20//NONSGML v1.0//EN
CALSCALE:GREGORIAN
METHOD:PUBLISH
X-ORIGINAL-URL:https://teasdchamber.com
X-WR-CALDESC:Events for Tea Chamber for Development
REFRESH-INTERVAL;VALUE=DURATION:PT1H
X-Robots-Tag:noindex
X-PUBLISHED-TTL:PT1H
BEGIN:VTIMEZONE
TZID:America/Chicago
BEGIN:DAYLIGHT
TZOFFSETFROM:-0600
TZOFFSETTO:-0500
TZNAME:CDT
DTSTART:20240310T080000
END:DAYLIGHT
BEGIN:STANDARD
TZOFFSETFROM:-0500
TZOFFSETTO:-0600
TZNAME:CST
DTSTART:20241103T070000
END:STANDARD
BEGIN:DAYLIGHT
TZOFFSETFROM:-0600
TZOFFSETTO:-0500
TZNAME:CDT
DTSTART:20250309T080000
END:DAYLIGHT
BEGIN:STANDARD
TZOFFSETFROM:-0500
TZOFFSETTO:-0600
TZNAME:CST
DTSTART:20251102T070000
END:STANDARD
BEGIN:DAYLIGHT
TZOFFSETFROM:-0600
TZOFFSETTO:-0500
TZNAME:CDT
DTSTART:20260308T080000
END:DAYLIGHT
BEGIN:STANDARD
TZOFFSETFROM:-0500
TZOFFSETTO:-0600
TZNAME:CST
DTSTART:20261101T070000
END:STANDARD
END:VTIMEZONE
BEGIN:VEVENT
DTSTART;TZID=America/Chicago:20251114T113000
DTEND;TZID=America/Chicago:20251114T120000
DTSTAMP:20260423T122959
CREATED:20251107T184021Z
LAST-MODIFIED:20251107T184021Z
UID:10000211-1763119800-1763121600@teasdchamber.com
SUMMARY:SV Electric Ribbon Cutting & Open House
DESCRIPTION:We’re excited to celebrate our brand new building with you! Join SV Electric\, Tea Chamber for Development & Sioux Falls Chamber of Commerce for a ribbon cutting and open house!\n1130am SV Electric Ribbon Cutting1pm-5pm Open House\nCome tour our new space\, meet the team\, and see what we’ve been working on! We’ll have food\, drinks\, and great company as we celebrate this next chapter for SV Electric
URL:https://teasdchamber.com/event/sv-electric-ribbon-cutting-open-house/
LOCATION:SV Electric\, 2010 Industrial St.\, Tea\, SD\, 57064\, United States
ATTACH;FMTTYPE=image/jpeg:https://teasdchamber.com/wp-content/uploads/2025/02/RibbonCutting_TeaAreaChamber.jpg
END:VEVENT
END:VCALENDAR